BEGIN:VCALENDAR
VERSION:2.0
PRODID:-//DACSI - ECPv6.15.12.2//NONSGML v1.0//EN
CALSCALE:GREGORIAN
METHOD:PUBLISH
X-WR-CALNAME:DACSI
X-ORIGINAL-URL:https://dacsi.nl
X-WR-CALDESC:Events for DACSI
REFRESH-INTERVAL;VALUE=DURATION:PT1H
X-Robots-Tag:noindex
X-PUBLISHED-TTL:PT1H
BEGIN:VTIMEZONE
TZID:Europe/Amsterdam
BEGIN:DAYLIGHT
TZOFFSETFROM:+0100
TZOFFSETTO:+0200
TZNAME:CEST
DTSTART:20240331T010000
END:DAYLIGHT
BEGIN:STANDARD
TZOFFSETFROM:+0200
TZOFFSETTO:+0100
TZNAME:CET
DTSTART:20241027T010000
END:STANDARD
BEGIN:DAYLIGHT
TZOFFSETFROM:+0100
TZOFFSETTO:+0200
TZNAME:CEST
DTSTART:20250330T010000
END:DAYLIGHT
BEGIN:STANDARD
TZOFFSETFROM:+0200
TZOFFSETTO:+0100
TZNAME:CET
DTSTART:20251026T010000
END:STANDARD
BEGIN:DAYLIGHT
TZOFFSETFROM:+0100
TZOFFSETTO:+0200
TZNAME:CEST
DTSTART:20260329T010000
END:DAYLIGHT
BEGIN:STANDARD
TZOFFSETFROM:+0200
TZOFFSETTO:+0100
TZNAME:CET
DTSTART:20261025T010000
END:STANDARD
END:VTIMEZONE
BEGIN:VEVENT
DTSTART;TZID=Europe/Amsterdam:20251204T100000
DTEND;TZID=Europe/Amsterdam:20251204T123000
DTSTAMP:20260419T234529
CREATED:20241009T064151Z
LAST-MODIFIED:20250930T054040Z
UID:2685-1764842400-1764851400@dacsi.nl
SUMMARY:Core Committee [25-08]
DESCRIPTION:
URL:https://dacsi.nl/agenda-item/core-committee-25-08/
LOCATION:Euronext\, Beursplein 5\, Amsterdam\, North Holland\, 1012JW\, Netherlands
ATTACH;FMTTYPE=image/webp:https://dacsi.nl/wp-content/uploads/2024/10/Euronext.webp
END:VEVENT
BEGIN:VEVENT
DTSTART;TZID=Europe/Amsterdam:20251208T130000
DTEND;TZID=Europe/Amsterdam:20251208T150000
DTSTAMP:20260419T234529
CREATED:20250917T055957Z
LAST-MODIFIED:20251112T075227Z
UID:3113-1765198800-1765206000@dacsi.nl
SUMMARY:WG Vision M&D [56]
DESCRIPTION:
URL:https://dacsi.nl/agenda-item/wg-vision-md-56/
LOCATION:To be decided
ATTACH;FMTTYPE=image/jpeg:https://dacsi.nl/wp-content/uploads/2024/10/Vraagteken.jpg
END:VEVENT
BEGIN:VEVENT
DTSTART;TZID=Europe/Amsterdam:20251210T110000
DTEND;TZID=Europe/Amsterdam:20251210T120000
DTSTAMP:20260419T234529
CREATED:20251001T124152Z
LAST-MODIFIED:20251001T124152Z
UID:3142-1765364400-1765368000@dacsi.nl
SUMMARY:TF FASTER [8]
DESCRIPTION:
URL:https://dacsi.nl/agenda-item/tf-faster-8/
LOCATION:Online (MS teams)
ATTACH;FMTTYPE=image/jpeg:https://dacsi.nl/wp-content/uploads/2024/06/OIP.jpg
END:VEVENT
BEGIN:VEVENT
DTSTART;TZID=Europe/Amsterdam:20251211T090000
DTEND;TZID=Europe/Amsterdam:20251211T100000
DTSTAMP:20260419T234529
CREATED:20251027T090434Z
LAST-MODIFIED:20251027T090434Z
UID:3157-1765443600-1765447200@dacsi.nl
SUMMARY:DACSI General Assembly [25-02]
DESCRIPTION:
URL:https://dacsi.nl/agenda-item/dacsi-general-assembly-25-02/
LOCATION:Online (MS teams)
END:VEVENT
BEGIN:VEVENT
DTSTART;TZID=Europe/Amsterdam:20251211T110000
DTEND;TZID=Europe/Amsterdam:20251211T113000
DTSTAMP:20260419T234529
CREATED:20251027T090528Z
LAST-MODIFIED:20251027T090528Z
UID:3159-1765450800-1765452600@dacsi.nl
SUMMARY:DACSI Supervisory Board
DESCRIPTION:
URL:https://dacsi.nl/agenda-item/dacsi-supervisory-board/
LOCATION:Online (MS teams)
END:VEVENT
BEGIN:VEVENT
DTSTART;TZID=Europe/Amsterdam:20251215T090000
DTEND;TZID=Europe/Amsterdam:20251215T100000
DTSTAMP:20260419T234529
CREATED:20241009T060754Z
LAST-MODIFIED:20241009T060754Z
UID:2665-1765789200-1765792800@dacsi.nl
SUMMARY:WG Trading [46]
DESCRIPTION:
URL:https://dacsi.nl/agenda-item/wg-trading-46/
LOCATION:DACSI – Amstelgebouw\, Prins Bernhardplein 200\, Amsterdam\, 1097 JB\, Netherlands
ATTACH;FMTTYPE=image/jpeg:https://dacsi.nl/wp-content/uploads/2024/06/OIP.jpg
END:VEVENT
END:VCALENDAR