BEGIN:VCALENDAR
VERSION:2.0
PRODID:-//DACSI - ECPv6.15.12.2//NONSGML v1.0//EN
CALSCALE:GREGORIAN
METHOD:PUBLISH
X-WR-CALNAME:DACSI
X-ORIGINAL-URL:https://dacsi.nl
X-WR-CALDESC:Events for DACSI
REFRESH-INTERVAL;VALUE=DURATION:PT1H
X-Robots-Tag:noindex
X-PUBLISHED-TTL:PT1H
BEGIN:VTIMEZONE
TZID:Europe/Amsterdam
BEGIN:DAYLIGHT
TZOFFSETFROM:+0100
TZOFFSETTO:+0200
TZNAME:CEST
DTSTART:20240331T010000
END:DAYLIGHT
BEGIN:STANDARD
TZOFFSETFROM:+0200
TZOFFSETTO:+0100
TZNAME:CET
DTSTART:20241027T010000
END:STANDARD
BEGIN:DAYLIGHT
TZOFFSETFROM:+0100
TZOFFSETTO:+0200
TZNAME:CEST
DTSTART:20250330T010000
END:DAYLIGHT
BEGIN:STANDARD
TZOFFSETFROM:+0200
TZOFFSETTO:+0100
TZNAME:CET
DTSTART:20251026T010000
END:STANDARD
BEGIN:DAYLIGHT
TZOFFSETFROM:+0100
TZOFFSETTO:+0200
TZNAME:CEST
DTSTART:20260329T010000
END:DAYLIGHT
BEGIN:STANDARD
TZOFFSETFROM:+0200
TZOFFSETTO:+0100
TZNAME:CET
DTSTART:20261025T010000
END:STANDARD
BEGIN:DAYLIGHT
TZOFFSETFROM:+0100
TZOFFSETTO:+0200
TZNAME:CEST
DTSTART:20270328T010000
END:DAYLIGHT
BEGIN:STANDARD
TZOFFSETFROM:+0200
TZOFFSETTO:+0100
TZNAME:CET
DTSTART:20271031T010000
END:STANDARD
END:VTIMEZONE
BEGIN:VEVENT
DTSTART;TZID=Europe/Amsterdam:20250916T130000
DTEND;TZID=Europe/Amsterdam:20250916T153000
DTSTAMP:20260420T073105
CREATED:20250716T061308Z
LAST-MODIFIED:20250716T065526Z
UID:3044-1758027600-1758036600@dacsi.nl
SUMMARY:WG Vision M&D [53]
DESCRIPTION:
URL:https://dacsi.nl/agenda-item/wg-vision-md-53/
LOCATION:ABN AMRO Bank\, Gustav Mahlerlaan 10\, Amsterdam\, 1082 PP\, Netherlands
ATTACH;FMTTYPE=image/jpeg:https://dacsi.nl/wp-content/uploads/2025/07/abn.jpg
END:VEVENT
BEGIN:VEVENT
DTSTART;TZID=Europe/Amsterdam:20250918T100000
DTEND;TZID=Europe/Amsterdam:20250918T123000
DTSTAMP:20260420T073105
CREATED:20241009T063955Z
LAST-MODIFIED:20250528T054649Z
UID:2681-1758189600-1758198600@dacsi.nl
SUMMARY:Core Committee [25-06]
DESCRIPTION:
URL:https://dacsi.nl/agenda-item/core-committee-25-06/
LOCATION:Euroclear\, Herengracht 469\, Amsterdam\, Netherlands
ATTACH;FMTTYPE=image/jpeg:https://dacsi.nl/wp-content/uploads/2024/10/euroclear.jpg
END:VEVENT
BEGIN:VEVENT
DTSTART;TZID=Europe/Amsterdam:20250918T130000
DTEND;TZID=Europe/Amsterdam:20250918T140000
DTSTAMP:20260420T073105
CREATED:20241016T062328Z
LAST-MODIFIED:20241016T062328Z
UID:2765-1758200400-1758204000@dacsi.nl
SUMMARY:Board meeting [25-06]
DESCRIPTION:
URL:https://dacsi.nl/agenda-item/board-meeting-25-06/
LOCATION:Physical (TBD)
ATTACH;FMTTYPE=image/jpeg:https://dacsi.nl/wp-content/uploads/2024/10/Vraagteken.jpg
END:VEVENT
BEGIN:VEVENT
DTSTART;TZID=Europe/Amsterdam:20250929T110000
DTEND;TZID=Europe/Amsterdam:20250929T120000
DTSTAMP:20260420T073105
CREATED:20241009T094728Z
LAST-MODIFIED:20250903T073736Z
UID:2703-1759143600-1759147200@dacsi.nl
SUMMARY:WG I&IE [25-03]
DESCRIPTION:
URL:https://dacsi.nl/agenda-item/wg-iie-25-03/
LOCATION:Online (MS teams)
ATTACH;FMTTYPE=image/jpeg:https://dacsi.nl/wp-content/uploads/2024/06/OIP.jpg
END:VEVENT
BEGIN:VEVENT
DTSTART;TZID=Europe/Amsterdam:20250929T153000
DTEND;TZID=Europe/Amsterdam:20250929T170000
DTSTAMP:20260420T073105
CREATED:20241009T060704Z
LAST-MODIFIED:20250602T090442Z
UID:2663-1759159800-1759165200@dacsi.nl
SUMMARY:WG Trading [45]
DESCRIPTION:
URL:https://dacsi.nl/agenda-item/wg-trading-45/
LOCATION:To be decided
ATTACH;FMTTYPE=image/jpeg:https://dacsi.nl/wp-content/uploads/2024/10/Vraagteken.jpg
END:VEVENT
BEGIN:VEVENT
DTSTART;TZID=Europe/Amsterdam:20251001T110000
DTEND;TZID=Europe/Amsterdam:20251001T120000
DTSTAMP:20260420T073105
CREATED:20250828T084243Z
LAST-MODIFIED:20250828T084335Z
UID:3097-1759316400-1759320000@dacsi.nl
SUMMARY:TF FASTER [3]
DESCRIPTION:https://teams.microsoft.com/l/meetup-join/19%3ameeting_ZTUxM2Y3N2UtZGMyMC00Zjg0LWJkYjMtODAzMDk4YTNjZjdl%40thread.v2/0?context=%7b%22Tid%22%3a%222b913b41-6aef-4b4b-842c-39fb0c8205a5%22%2c%22Oid%22%3a%22d6821391-fa40-41e7-ae49-2638b234ad3d%22%7d
URL:https://dacsi.nl/agenda-item/tf-faster-3/
LOCATION:Online (MS teams)
ATTACH;FMTTYPE=image/jpeg:https://dacsi.nl/wp-content/uploads/2024/06/OIP.jpg
END:VEVENT
BEGIN:VEVENT
DTSTART;TZID=Europe/Amsterdam:20251015T110000
DTEND;TZID=Europe/Amsterdam:20251015T120000
DTSTAMP:20260420T073105
CREATED:20251001T123726Z
LAST-MODIFIED:20251001T123726Z
UID:3134-1760526000-1760529600@dacsi.nl
SUMMARY:TF FASTER [4]
DESCRIPTION:
URL:https://dacsi.nl/agenda-item/tf-faster-4/
LOCATION:Online (MS teams)
ATTACH;FMTTYPE=image/jpeg:https://dacsi.nl/wp-content/uploads/2024/06/OIP.jpg
END:VEVENT
BEGIN:VEVENT
DTSTART;TZID=Europe/Amsterdam:20251015T130000
DTEND;TZID=Europe/Amsterdam:20251015T150000
DTSTAMP:20260420T073105
CREATED:20250917T055521Z
LAST-MODIFIED:20250917T055658Z
UID:3109-1760533200-1760540400@dacsi.nl
SUMMARY:WG Vision M&D [54]
DESCRIPTION:
URL:https://dacsi.nl/agenda-item/wg-vision-md-54/
LOCATION:Euroclear\, Herengracht 469\, Amsterdam\, Netherlands
ATTACH;FMTTYPE=image/jpeg:https://dacsi.nl/wp-content/uploads/2024/10/euroclear.jpg
END:VEVENT
BEGIN:VEVENT
DTSTART;TZID=Europe/Amsterdam:20251016T120000
DTEND;TZID=Europe/Amsterdam:20251016T130000
DTSTAMP:20260420T073105
CREATED:20241014T093623Z
LAST-MODIFIED:20251001T124323Z
UID:2746-1760616000-1760619600@dacsi.nl
SUMMARY:TF T+1 [22]
DESCRIPTION:
URL:https://dacsi.nl/agenda-item/tf-t1-22/
LOCATION:Online (MS teams)
ATTACH;FMTTYPE=image/jpeg:https://dacsi.nl/wp-content/uploads/2024/06/OIP.jpg
END:VEVENT
BEGIN:VEVENT
DTSTART;TZID=Europe/Amsterdam:20251029T110000
DTEND;TZID=Europe/Amsterdam:20251029T120000
DTSTAMP:20260420T073105
CREATED:20251001T123844Z
LAST-MODIFIED:20251001T123844Z
UID:3136-1761735600-1761739200@dacsi.nl
SUMMARY:TF FASTER [5]
DESCRIPTION:
URL:https://dacsi.nl/agenda-item/tf-faster-5/
LOCATION:Online (MS teams)
ATTACH;FMTTYPE=image/jpeg:https://dacsi.nl/wp-content/uploads/2024/06/OIP.jpg
END:VEVENT
BEGIN:VEVENT
DTSTART;TZID=Europe/Amsterdam:20251030T100000
DTEND;TZID=Europe/Amsterdam:20251030T113000
DTSTAMP:20260420T073105
CREATED:20241009T064057Z
LAST-MODIFIED:20241009T064057Z
UID:2683-1761818400-1761823800@dacsi.nl
SUMMARY:Core Committee [25-07]
DESCRIPTION:
URL:https://dacsi.nl/agenda-item/core-committee-25-07/
LOCATION:Online (MS teams)
ATTACH;FMTTYPE=image/jpeg:https://dacsi.nl/wp-content/uploads/2024/06/OIP.jpg
END:VEVENT
BEGIN:VEVENT
DTSTART;TZID=Europe/Amsterdam:20251030T130000
DTEND;TZID=Europe/Amsterdam:20251030T140000
DTSTAMP:20260420T073105
CREATED:20241016T062455Z
LAST-MODIFIED:20241016T062455Z
UID:2767-1761829200-1761832800@dacsi.nl
SUMMARY:Board meeting [25-07]
DESCRIPTION:
URL:https://dacsi.nl/agenda-item/board-meeting-25-07/
LOCATION:Online (MS teams)
ATTACH;FMTTYPE=image/jpeg:https://dacsi.nl/wp-content/uploads/2024/06/OIP.jpg
END:VEVENT
BEGIN:VEVENT
DTSTART;TZID=Europe/Amsterdam:20251110T113000
DTEND;TZID=Europe/Amsterdam:20251110T124500
DTSTAMP:20260420T073105
CREATED:20241010T091718Z
LAST-MODIFIED:20241010T091718Z
UID:2725-1762774200-1762778700@dacsi.nl
SUMMARY:WG SCAS [25-08]
DESCRIPTION:
URL:https://dacsi.nl/agenda-item/wg-scas-25-08/
LOCATION:DACSI – Amstelgebouw\, Prins Bernhardplein 200\, Amsterdam\, 1097 JB\, Netherlands
ATTACH;FMTTYPE=image/jpeg:https://dacsi.nl/wp-content/uploads/2024/06/amstelgebouw.jpg
END:VEVENT
BEGIN:VEVENT
DTSTART;TZID=Europe/Amsterdam:20251110T130000
DTEND;TZID=Europe/Amsterdam:20251110T150000
DTSTAMP:20260420T073105
CREATED:20250917T055840Z
LAST-MODIFIED:20251022T075147Z
UID:3111-1762779600-1762786800@dacsi.nl
SUMMARY:WG Vision M&D [55]
DESCRIPTION:
URL:https://dacsi.nl/agenda-item/wg-vision-md-55/
LOCATION:ABN AMRO Bank\, Gustav Mahlerlaan 10\, Amsterdam\, 1082 PP\, Netherlands
ATTACH;FMTTYPE=image/jpeg:https://dacsi.nl/wp-content/uploads/2025/07/abn.jpg
END:VEVENT
BEGIN:VEVENT
DTSTART;TZID=Europe/Amsterdam:20251126T110000
DTEND;TZID=Europe/Amsterdam:20251126T120000
DTSTAMP:20260420T073105
CREATED:20251001T124106Z
LAST-MODIFIED:20251001T124106Z
UID:3140-1764154800-1764158400@dacsi.nl
SUMMARY:TF FASTER [7]
DESCRIPTION:
URL:https://dacsi.nl/agenda-item/tf-faster-7/
LOCATION:Online (MS teams)
ATTACH;FMTTYPE=image/jpeg:https://dacsi.nl/wp-content/uploads/2024/06/OIP.jpg
END:VEVENT
BEGIN:VEVENT
DTSTART;TZID=Europe/Amsterdam:20251126T130000
DTEND;TZID=Europe/Amsterdam:20251126T140000
DTSTAMP:20260420T073105
CREATED:20241014T093710Z
LAST-MODIFIED:20251105T094917Z
UID:2748-1764162000-1764165600@dacsi.nl
SUMMARY:TF T+1 [23/24]
DESCRIPTION:
URL:https://dacsi.nl/agenda-item/tf-t1-23/
LOCATION:Online (MS teams)
ATTACH;FMTTYPE=image/jpeg:https://dacsi.nl/wp-content/uploads/2024/06/OIP.jpg
END:VEVENT
BEGIN:VEVENT
DTSTART;TZID=Europe/Amsterdam:20251204T100000
DTEND;TZID=Europe/Amsterdam:20251204T123000
DTSTAMP:20260420T073105
CREATED:20241009T064151Z
LAST-MODIFIED:20250930T054040Z
UID:2685-1764842400-1764851400@dacsi.nl
SUMMARY:Core Committee [25-08]
DESCRIPTION:
URL:https://dacsi.nl/agenda-item/core-committee-25-08/
LOCATION:Euronext\, Beursplein 5\, Amsterdam\, North Holland\, 1012JW\, Netherlands
ATTACH;FMTTYPE=image/webp:https://dacsi.nl/wp-content/uploads/2024/10/Euronext.webp
END:VEVENT
BEGIN:VEVENT
DTSTART;TZID=Europe/Amsterdam:20251208T130000
DTEND;TZID=Europe/Amsterdam:20251208T150000
DTSTAMP:20260420T073106
CREATED:20250917T055957Z
LAST-MODIFIED:20251112T075227Z
UID:3113-1765198800-1765206000@dacsi.nl
SUMMARY:WG Vision M&D [56]
DESCRIPTION:
URL:https://dacsi.nl/agenda-item/wg-vision-md-56/
LOCATION:To be decided
ATTACH;FMTTYPE=image/jpeg:https://dacsi.nl/wp-content/uploads/2024/10/Vraagteken.jpg
END:VEVENT
BEGIN:VEVENT
DTSTART;TZID=Europe/Amsterdam:20251210T110000
DTEND;TZID=Europe/Amsterdam:20251210T120000
DTSTAMP:20260420T073106
CREATED:20251001T124152Z
LAST-MODIFIED:20251001T124152Z
UID:3142-1765364400-1765368000@dacsi.nl
SUMMARY:TF FASTER [8]
DESCRIPTION:
URL:https://dacsi.nl/agenda-item/tf-faster-8/
LOCATION:Online (MS teams)
ATTACH;FMTTYPE=image/jpeg:https://dacsi.nl/wp-content/uploads/2024/06/OIP.jpg
END:VEVENT
BEGIN:VEVENT
DTSTART;TZID=Europe/Amsterdam:20251211T090000
DTEND;TZID=Europe/Amsterdam:20251211T100000
DTSTAMP:20260420T073106
CREATED:20251027T090434Z
LAST-MODIFIED:20251027T090434Z
UID:3157-1765443600-1765447200@dacsi.nl
SUMMARY:DACSI General Assembly [25-02]
DESCRIPTION:
URL:https://dacsi.nl/agenda-item/dacsi-general-assembly-25-02/
LOCATION:Online (MS teams)
END:VEVENT
BEGIN:VEVENT
DTSTART;TZID=Europe/Amsterdam:20251211T110000
DTEND;TZID=Europe/Amsterdam:20251211T113000
DTSTAMP:20260420T073106
CREATED:20251027T090528Z
LAST-MODIFIED:20251027T090528Z
UID:3159-1765450800-1765452600@dacsi.nl
SUMMARY:DACSI Supervisory Board
DESCRIPTION:
URL:https://dacsi.nl/agenda-item/dacsi-supervisory-board/
LOCATION:Online (MS teams)
END:VEVENT
BEGIN:VEVENT
DTSTART;TZID=Europe/Amsterdam:20251215T090000
DTEND;TZID=Europe/Amsterdam:20251215T100000
DTSTAMP:20260420T073106
CREATED:20241009T060754Z
LAST-MODIFIED:20241009T060754Z
UID:2665-1765789200-1765792800@dacsi.nl
SUMMARY:WG Trading [46]
DESCRIPTION:
URL:https://dacsi.nl/agenda-item/wg-trading-46/
LOCATION:DACSI – Amstelgebouw\, Prins Bernhardplein 200\, Amsterdam\, 1097 JB\, Netherlands
ATTACH;FMTTYPE=image/jpeg:https://dacsi.nl/wp-content/uploads/2024/06/OIP.jpg
END:VEVENT
BEGIN:VEVENT
DTSTART;TZID=Europe/Amsterdam:20260120T100000
DTEND;TZID=Europe/Amsterdam:20260120T113000
DTSTAMP:20260420T073106
CREATED:20251120T121644Z
LAST-MODIFIED:20251120T121644Z
UID:3258-1768903200-1768908600@dacsi.nl
SUMMARY:WG Vision [57]
DESCRIPTION:
URL:https://dacsi.nl/agenda-item/wg-vision-57/
LOCATION:To be decided
END:VEVENT
BEGIN:VEVENT
DTSTART;TZID=Europe/Amsterdam:20260121T110000
DTEND;TZID=Europe/Amsterdam:20260121T120000
DTSTAMP:20260420T073106
CREATED:20251120T102030Z
LAST-MODIFIED:20251120T102030Z
UID:3241-1768993200-1768996800@dacsi.nl
SUMMARY:TF FASTER [9]
DESCRIPTION:
URL:https://dacsi.nl/agenda-item/tf-faster-9/
LOCATION:Online (MS teams)
END:VEVENT
BEGIN:VEVENT
DTSTART;TZID=Europe/Amsterdam:20260121T120000
DTEND;TZID=Europe/Amsterdam:20260121T130000
DTSTAMP:20260420T073106
CREATED:20251119T122340Z
LAST-MODIFIED:20251119T122340Z
UID:3219-1768996800-1769000400@dacsi.nl
SUMMARY:TF T+1 [25]
DESCRIPTION:
URL:https://dacsi.nl/agenda-item/tf-t1-25/
LOCATION:Online (MS teams)
END:VEVENT
BEGIN:VEVENT
DTSTART;TZID=Europe/Amsterdam:20260205T100000
DTEND;TZID=Europe/Amsterdam:20260205T113000
DTSTAMP:20260420T073106
CREATED:20251113T104710Z
LAST-MODIFIED:20251219T084345Z
UID:3181-1770285600-1770291000@dacsi.nl
SUMMARY:Core Committee [26-01]
DESCRIPTION:
URL:https://dacsi.nl/agenda-item/coco-26-01/
LOCATION:Online (MS teams)
END:VEVENT
BEGIN:VEVENT
DTSTART;TZID=Europe/Amsterdam:20260209T090000
DTEND;TZID=Europe/Amsterdam:20260209T100000
DTSTAMP:20260420T073106
CREATED:20251113T113801Z
LAST-MODIFIED:20251113T113801Z
UID:3199-1770627600-1770631200@dacsi.nl
SUMMARY:WG Trading [47]
DESCRIPTION:
URL:https://dacsi.nl/agenda-item/wg-trading-47/
LOCATION:Online (MS teams)
END:VEVENT
BEGIN:VEVENT
DTSTART;TZID=Europe/Amsterdam:20260211T110000
DTEND;TZID=Europe/Amsterdam:20260211T120000
DTSTAMP:20260420T073106
CREATED:20251120T102114Z
LAST-MODIFIED:20251120T102114Z
UID:3243-1770807600-1770811200@dacsi.nl
SUMMARY:TF FASTER [10]
DESCRIPTION:
URL:https://dacsi.nl/agenda-item/tf-faster-10/
LOCATION:Online (MS teams)
END:VEVENT
BEGIN:VEVENT
DTSTART;TZID=Europe/Amsterdam:20260223T100000
DTEND;TZID=Europe/Amsterdam:20260223T110000
DTSTAMP:20260420T073106
CREATED:20251119T110418Z
LAST-MODIFIED:20251119T110418Z
UID:3209-1771840800-1771844400@dacsi.nl
SUMMARY:WG SCAS [26-01]
DESCRIPTION:
URL:https://dacsi.nl/agenda-item/wg-scas-26-01/
LOCATION:Online (MS teams)
END:VEVENT
BEGIN:VEVENT
DTSTART;TZID=Europe/Amsterdam:20260224T100000
DTEND;TZID=Europe/Amsterdam:20260224T113000
DTSTAMP:20260420T073106
CREATED:20251120T121722Z
LAST-MODIFIED:20251120T121722Z
UID:3260-1771927200-1771932600@dacsi.nl
SUMMARY:WG Vision [58]
DESCRIPTION:
URL:https://dacsi.nl/agenda-item/wg-vision-58/
LOCATION:To be decided
END:VEVENT
END:VCALENDAR